BEGIN:VCALENDAR
VERSION:2.0
PRODID:Events Booking
BEGIN:VEVENT
UID:69e5dec8e0e5c
SUMMARY:Permit Modification
DESCRIPTION:Only select this course to add or replace a firearm listed on
  your CURRENT California CCW permit.
 We are authorized training provide
 r for Calaveras\, Contra Costa\, Solano\, Napa\, Sacramento\, Yolo County
 .
LOCATION:3155 Goodrick Ave\, Richmond\, CA 94801\, USA
DTSTART:20240918T000000Z
DTEND:20240918T010000Z
DTSTAMP:20220408T020142Z
ORGANIZER;CN=Dobbs Firearm Training:MAILTO:info@dobbsfirearmtraining.com
GEO:37.978777;-122.37015
X-APPLE-STRUCTURED-LOCATION;VALUE=URI;X-ADDRESS=3155 Goodrick Ave\, Richmon
 d\, CA 94801\, USA;X-APPLE-RADIUS=72;X-TITLE=Richmond Rod & Gun Club:37.97
 8777;-122.37015
END:VEVENT
END:VCALENDAR