BEGIN:VCALENDAR
VERSION:2.0
PRODID:Events Booking
BEGIN:VEVENT
UID:69e7f2a63b010
SUMMARY:CA CCW Renewal Course
DESCRIPTION:This course will satisfy 4 Hours of training for Calaveras\, Co
 ntra Costa\, Napa\, Sacramento\, Shasta\, Solano\, Sutter\, Trinity\, or 
 Yolo County to renew a California concealed carry weapons permit.
 *You 
 must be a resident of one of the listed Counties.
LOCATION:1652 W Texas St\, Fairfield\, CA 94533\, USA
DTSTART:20221221T170000Z
DTEND:20221221T230000Z
DTSTAMP:20260421T215654Z
ORGANIZER;CN=Dobbs Firearm Training:MAILTO:info@dobbsfirearmtraining.com
GEO:38.249683;-122.057832
X-APPLE-STRUCTURED-LOCATION;VALUE=URI;X-ADDRESS=1652 W Texas St\, Fairfield
 \, CA 94533\, USA;X-APPLE-RADIUS=72;X-TITLE=Dobbs Firearm Training:38.2496
 83;-122.057832
END:VEVENT
END:VCALENDAR